BEGIN:VCALENDAR
VERSION:2.0
PRODID:-//Treyade Studio - ECPv6.11.0.1//NONSGML v1.0//EN
CALSCALE:GREGORIAN
METHOD:PUBLISH
X-WR-CALNAME:Treyade Studio
X-ORIGINAL-URL:https://treyadestudio.com
X-WR-CALDESC:Events for Treyade Studio
REFRESH-INTERVAL;VALUE=DURATION:PT1H
X-Robots-Tag:noindex
X-PUBLISHED-TTL:PT1H
BEGIN:VTIMEZONE
TZID:UTC
BEGIN:STANDARD
TZOFFSETFROM:+0000
TZOFFSETTO:+0000
TZNAME:UTC
DTSTART:20240101T000000
END:STANDARD
END:VTIMEZONE
BEGIN:VEVENT
DTSTART;TZID=UTC:20240831T100000
DTEND;TZID=UTC:20240831T123000
DTSTAMP:20260422T162424
CREATED:20240806T092136Z
LAST-MODIFIED:20240806T092136Z
UID:2224-1725098400-1725107400@treyadestudio.com
SUMMARY:Heart in Earth workshop Glastonbury
DESCRIPTION:Workshop to discover how your heart energy is reflected by nature. During this workshop (around 2 1/2 hours) we will connect with nature and open your heart energy\, so you can discover the three pillars of your heart.  You can experience how nature mirrors you and learn to trust the insights that nature will bring you. \nCosts: \n\n £55 per person (group maximum of 4 people)\n £85 one-on-one
URL:https://treyadestudio.com/calendar-event/heart-in-earth-workshop-glastonbury-39/
LOCATION:Glastonbury\, Glastonbury\, United Kingdom
END:VEVENT
END:VCALENDAR