BEGIN:VCALENDAR
VERSION:2.0
PRODID:-//Treyade Studio - ECPv6.11.0.1//NONSGML v1.0//EN
CALSCALE:GREGORIAN
METHOD:PUBLISH
X-ORIGINAL-URL:https://treyadestudio.com
X-WR-CALDESC:Events for Treyade Studio
REFRESH-INTERVAL;VALUE=DURATION:PT1H
X-Robots-Tag:noindex
X-PUBLISHED-TTL:PT1H
BEGIN:VTIMEZONE
TZID:UTC
BEGIN:STANDARD
TZOFFSETFROM:+0000
TZOFFSETTO:+0000
TZNAME:UTC
DTSTART:20230101T000000
END:STANDARD
END:VTIMEZONE
BEGIN:VEVENT
DTSTART;TZID=UTC:20230628T100000
DTEND;TZID=UTC:20230630T150000
DTSTAMP:20260423T114152
CREATED:20230112T161608Z
LAST-MODIFIED:20230112T161608Z
UID:2073-1687946400-1688137200@treyadestudio.com
SUMMARY:Embrace yourSelf 3-day journey
DESCRIPTION:This journey is all about the energies of our feminine and masculine side\, which we all have.  During these 3 days we will connect with both of those energies\, to experience the difference and connect them with your heart. We will balance and raise these vibrations to a higher level.You can experience how nature shows those energies to you and become more aware of yourself and the energies that flow through your body. A visit to Chalice Well\, Glastonbury Tor and Glastonbury Abbey is part of this journey.  Only for  small groups (up to 4 people). Costs: £295 per person or £550 individually.
URL:https://treyadestudio.com/calendar-event/embrace-yourself-3-day-journey-11/
LOCATION:Glastonbury\, Glastonbury\, United Kingdom
END:VEVENT
END:VCALENDAR