BEGIN:VCALENDAR
VERSION:2.0
PRODID:-//Treyade Studio - ECPv6.11.0.1//NONSGML v1.0//EN
CALSCALE:GREGORIAN
METHOD:PUBLISH
X-ORIGINAL-URL:https://treyadestudio.com
X-WR-CALDESC:Events for Treyade Studio
REFRESH-INTERVAL;VALUE=DURATION:PT1H
X-Robots-Tag:noindex
X-PUBLISHED-TTL:PT1H
BEGIN:VTIMEZONE
TZID:UTC
BEGIN:STANDARD
TZOFFSETFROM:+0000
TZOFFSETTO:+0000
TZNAME:UTC
DTSTART:20220101T000000
END:STANDARD
END:VTIMEZONE
BEGIN:VEVENT
DTSTART;TZID=UTC:20220502T100000
DTEND;TZID=UTC:20220506T150000
DTSTAMP:20260424T094532
CREATED:20220124T114337Z
LAST-MODIFIED:20220124T114337Z
UID:1943-1651485600-1651849200@treyadestudio.com
SUMMARY:New Beginnings 5-day journey
DESCRIPTION:Are you ready for a new start in your life! This 5-day journey is all about new beginnings. We will walk in nature to let go of the old and connect with the energies of the new on several layers. By connecting your heart with the new energies in your life you will be willing and ready to embrace the new beginning. We will visit Chalice Well\, climb the Tor and walk your path into the future. I will show you how nature reflects you and helps you on this new chapter in your life. Be ready for insights and increase your intuition by tuning in with nature. Due to the character of this journey\, it is only available as a one-on-one. \n 
URL:https://treyadestudio.com/calendar-event/new-beginnings-5-day-journey-8/
LOCATION:Glastonbury\, Glastonbury\, United Kingdom
END:VEVENT
END:VCALENDAR