BEGIN:VCALENDAR
VERSION:2.0
PRODID:-//Treyade Studio - ECPv6.11.0.1//NONSGML v1.0//EN
CALSCALE:GREGORIAN
METHOD:PUBLISH
X-WR-CALNAME:Treyade Studio
X-ORIGINAL-URL:https://treyadestudio.com
X-WR-CALDESC:Events for Treyade Studio
REFRESH-INTERVAL;VALUE=DURATION:PT1H
X-Robots-Tag:noindex
X-PUBLISHED-TTL:PT1H
BEGIN:VTIMEZONE
TZID:UTC
BEGIN:STANDARD
TZOFFSETFROM:+0000
TZOFFSETTO:+0000
TZNAME:UTC
DTSTART:20220101T000000
END:STANDARD
END:VTIMEZONE
BEGIN:VEVENT
DTSTART;TZID=UTC:20220108T100000
DTEND;TZID=UTC:20220108T123000
DTSTAMP:20260424T161907
CREATED:20211207T132441Z
LAST-MODIFIED:20211207T132441Z
UID:1936-1641636000-1641645000@treyadestudio.com
SUMMARY:Heart in Earth workshop Glastonbury
DESCRIPTION:Workshop do discover how your heart energy is reflected by nature. During this workshop (around 2 1/2 hours) we will walk in nature\, open your heart energy and connect with the three pillars of your heart.  You can discover how nature mirrors you\, anchor the insights that nature will bring you and learn to trust the messages from your heart. \nCosts: \n\n £35 per person (group maximum of 4 people)\n £55 one-on-one
URL:https://treyadestudio.com/calendar-event/heart-in-earth-workshop-glastonbury-23/
LOCATION:Glastonbury\, Glastonbury\, United Kingdom
END:VEVENT
END:VCALENDAR