BEGIN:VCALENDAR
VERSION:2.0
PRODID:-//Treyade Studio - ECPv6.11.0.1//NONSGML v1.0//EN
CALSCALE:GREGORIAN
METHOD:PUBLISH
X-WR-CALNAME:Treyade Studio
X-ORIGINAL-URL:https://treyadestudio.com
X-WR-CALDESC:Events for Treyade Studio
REFRESH-INTERVAL;VALUE=DURATION:PT1H
X-Robots-Tag:noindex
X-PUBLISHED-TTL:PT1H
BEGIN:VTIMEZONE
TZID:UTC
BEGIN:STANDARD
TZOFFSETFROM:+0000
TZOFFSETTO:+0000
TZNAME:UTC
DTSTART:20210101T000000
END:STANDARD
END:VTIMEZONE
BEGIN:VEVENT
DTSTART;TZID=UTC:20210807T100000
DTEND;TZID=UTC:20210807T120000
DTSTAMP:20260425T002129
CREATED:20210419T110336Z
LAST-MODIFIED:20210419T110336Z
UID:1801-1628330400-1628337600@treyadestudio.com
SUMMARY:Heart in Earth workshop Glastonbury
DESCRIPTION:In the sacred place of Avalon (Glastonbury) you can join this workshop to experience how Nature reflects your heart. During this workshop (around 2 hours) we will walk in nature\, open your heart energy and anchor the insights that nature will bring you.  Discover how the trees and nature mirrors you and learn to trust your intuition.
URL:https://treyadestudio.com/calendar-event/heart-in-earth-workshop-glastonbury-10/
LOCATION:Glastonbury\, Glastonbury\, United Kingdom
END:VEVENT
END:VCALENDAR