BEGIN:VCALENDAR
VERSION:2.0
PRODID:-//Treyade Studio - ECPv6.11.0.1//NONSGML v1.0//EN
CALSCALE:GREGORIAN
METHOD:PUBLISH
X-WR-CALNAME:Treyade Studio
X-ORIGINAL-URL:https://treyadestudio.com
X-WR-CALDESC:Events for Treyade Studio
REFRESH-INTERVAL;VALUE=DURATION:PT1H
X-Robots-Tag:noindex
X-PUBLISHED-TTL:PT1H
BEGIN:VTIMEZONE
TZID:UTC
BEGIN:STANDARD
TZOFFSETFROM:+0000
TZOFFSETTO:+0000
TZNAME:UTC
DTSTART:20200101T000000
END:STANDARD
END:VTIMEZONE
BEGIN:VEVENT
DTSTART;TZID=UTC:20200815T100000
DTEND;TZID=UTC:20200815T150000
DTSTAMP:20260425T193233
CREATED:20200811T093654Z
LAST-MODIFIED:20200811T093654Z
UID:1639-1597485600-1597503600@treyadestudio.com
SUMMARY:Discovery walk EARTH
DESCRIPTION:Workshop in nature to get to know yourself in a different way. On this walk we connect with the element of earth inside yourself. This element is connected with your base\, the foundation. Do you want to experience how your are connected. Be more balanced? And experience how nature mirrors yourself? We walk in the natural environment of Glastonbury and harmonize those energies inside yourself.
URL:https://treyadestudio.com/calendar-event/discovery-walk-earth-3/
LOCATION:Glastonbury\, Glastonbury\, United Kingdom
END:VEVENT
END:VCALENDAR