BEGIN:VCALENDAR
VERSION:2.0
PRODID:-//Treyade Studio - ECPv6.11.0.1//NONSGML v1.0//EN
CALSCALE:GREGORIAN
METHOD:PUBLISH
X-ORIGINAL-URL:https://treyadestudio.com
X-WR-CALDESC:Events for Treyade Studio
REFRESH-INTERVAL;VALUE=DURATION:PT1H
X-Robots-Tag:noindex
X-PUBLISHED-TTL:PT1H
BEGIN:VTIMEZONE
TZID:UTC
BEGIN:STANDARD
TZOFFSETFROM:+0000
TZOFFSETTO:+0000
TZNAME:UTC
DTSTART:20200101T000000
END:STANDARD
END:VTIMEZONE
BEGIN:VEVENT
DTSTART;TZID=UTC:20200506T100000
DTEND;TZID=UTC:20200510T150000
DTSTAMP:20260426T001509
CREATED:20191231T132749Z
LAST-MODIFIED:20200318T120339Z
UID:1472-1588759200-1589122800@treyadestudio.com
SUMMARY:Discover yourself 5-day journey cancelled
DESCRIPTION:Journey to get to know yourself on a deeper level.\nExperience how you are connected with your foundations: the elements (water\, air\, earth and fire) and your heart. Learn to trust yourself and see how nature reveals yourself. Break free of old thought patterns and make room for new insights\, but most of all: DISCOVER YOU! \n£580 one-on-one \n£355 p.p. for 2\, 3 or 4 people \n 
URL:https://treyadestudio.com/calendar-event/discover-yourself-5-day-journey-4/
LOCATION:Glastonbury\, Glastonbury\, United Kingdom
END:VEVENT
END:VCALENDAR