BEGIN:VCALENDAR
VERSION:2.0
PRODID:-//Treyade Studio - ECPv6.11.0.1//NONSGML v1.0//EN
CALSCALE:GREGORIAN
METHOD:PUBLISH
X-ORIGINAL-URL:https://treyadestudio.com
X-WR-CALDESC:Events for Treyade Studio
REFRESH-INTERVAL;VALUE=DURATION:PT1H
X-Robots-Tag:noindex
X-PUBLISHED-TTL:PT1H
BEGIN:VTIMEZONE
TZID:UTC
BEGIN:STANDARD
TZOFFSETFROM:+0000
TZOFFSETTO:+0000
TZNAME:UTC
DTSTART:20220101T000000
END:STANDARD
END:VTIMEZONE
BEGIN:VEVENT
DTSTART;TZID=UTC:20220830T100000
DTEND;TZID=UTC:20220901T150000
DTSTAMP:20260424T011801
CREATED:20220805T095847Z
LAST-MODIFIED:20220805T095847Z
UID:2005-1661853600-1662044400@treyadestudio.com
SUMMARY:Embrace yourSelf 3-day journey
DESCRIPTION:This journey is all about the energies of our feminine and masculine side\, which we all have.  During these 3 days we will connect with both of those energies\, to experience the difference and connect them with your heart. We will balance and raise these vibrations to a higher level.You can experience how nature shows those energies to you and become more aware of yourself and the energies that flow through your body. A visit to Chalice Well\, Glastonbury Tor and Glastonbury Abbey is part of this journey.  Only for  small groups (up to 4 people). Costs: £255 per person or £495 individually.
URL:https://treyadestudio.com/calendar-event/embrace-yourself-3-day-journey-10/
LOCATION:Glastonbury\, Glastonbury\, United Kingdom
END:VEVENT
BEGIN:VEVENT
DTSTART;TZID=UTC:20220903T100000
DTEND;TZID=UTC:20220903T123000
DTSTAMP:20260424T011801
CREATED:20220805T094025Z
LAST-MODIFIED:20220805T094025Z
UID:1993-1662199200-1662208200@treyadestudio.com
SUMMARY:Heart in Earth workshop Glastonbury
DESCRIPTION:Workshop do discover how your heart energy is reflected by nature. During this workshop (around 2 1/2 hours) we will walk in nature\, open your heart energy and connect with the three pillars of your heart.  You can discover how nature mirrors you\, anchor the insights that nature will bring you and learn to trust the messages from your heart. \nCosts: \n\n £50 per person (group maximum of 4 people)\n £75 one-on-one
URL:https://treyadestudio.com/calendar-event/heart-in-earth-workshop-glastonbury-27/
LOCATION:Glastonbury\, Glastonbury\, United Kingdom
END:VEVENT
BEGIN:VEVENT
DTSTART;TZID=UTC:20220910T100000
DTEND;TZID=UTC:20220910T123000
DTSTAMP:20260424T011801
CREATED:20220805T094109Z
LAST-MODIFIED:20220805T094109Z
UID:1995-1662804000-1662813000@treyadestudio.com
SUMMARY:Heart in Earth workshop Glastonbury
DESCRIPTION:Workshop do discover how your heart energy is reflected by nature. During this workshop (around 2 1/2 hours) we will walk in nature\, open your heart energy and connect with the three pillars of your heart.  You can discover how nature mirrors you\, anchor the insights that nature will bring you and learn to trust the messages from your heart. \nCosts: \n\n £50 per person (group maximum of 4 people)\n £75 one-on-one
URL:https://treyadestudio.com/calendar-event/heart-in-earth-workshop-glastonbury-28/
LOCATION:Glastonbury\, Glastonbury\, United Kingdom
END:VEVENT
END:VCALENDAR