BEGIN:VCALENDAR
VERSION:2.0
PRODID:-//Treyade Studio - ECPv6.11.0.1//NONSGML v1.0//EN
CALSCALE:GREGORIAN
METHOD:PUBLISH
X-ORIGINAL-URL:https://treyadestudio.com
X-WR-CALDESC:Events for Treyade Studio
REFRESH-INTERVAL;VALUE=DURATION:PT1H
X-Robots-Tag:noindex
X-PUBLISHED-TTL:PT1H
BEGIN:VTIMEZONE
TZID:UTC
BEGIN:STANDARD
TZOFFSETFROM:+0000
TZOFFSETTO:+0000
TZNAME:UTC
DTSTART:20220101T000000
END:STANDARD
END:VTIMEZONE
BEGIN:VEVENT
DTSTART;TZID=UTC:20220813T100000
DTEND;TZID=UTC:20220813T123000
DTSTAMP:20260424T025411
CREATED:20220805T093833Z
LAST-MODIFIED:20220805T093833Z
UID:1989-1660384800-1660393800@treyadestudio.com
SUMMARY:Heart in Earth workshop Glastonbury
DESCRIPTION:Workshop do discover how your heart energy is reflected by nature. During this workshop (around 2 1/2 hours) we will walk in nature\, open your heart energy and connect with the three pillars of your heart.  You can discover how nature mirrors you\, anchor the insights that nature will bring you and learn to trust the messages from your heart. \nCosts: \n\n £50 per person (group maximum of 4 people)\n £75 one-on-one
URL:https://treyadestudio.com/calendar-event/heart-in-earth-workshop-glastonbury-25/
LOCATION:Glastonbury\, Glastonbury\, United Kingdom
END:VEVENT
BEGIN:VEVENT
DTSTART;TZID=UTC:20220823T100000
DTEND;TZID=UTC:20220825T150000
DTSTAMP:20260424T025411
CREATED:20220805T095413Z
LAST-MODIFIED:20220805T095413Z
UID:2001-1661248800-1661439600@treyadestudio.com
SUMMARY:Senses 3-day journey Glastonbury
DESCRIPTION:3-Day senses journey in Glastonbury and South-Cadbury \nThis journey is all about the senses! \nHearing\, touch\, taste\, smell and sound are the ways we perceive the world around us\, but the senses have an inner part too\, the knowing\, the sixth sense. \nDuring these days we will connect with your senses to sharpen them on a deeper level. You will have a stronger connection with your intuition and become more aware of the person you truly are! You will look at the world around you in a different way!  \nAll of the experiences will take place in Nature\, as Nature is the best way to get to know yourself on a deeper level. You are going to explore your senses and discover how the energies of nature helps you to become more aware. \nThere is an option for a forth day to visit Avebury (stone circle) \nGroup journey for maximum of 4 people. \nCOSTS: £255 p.p. + extra day Avebury £85\, or £495 individually \nYou can find more information on the journey page in the overview.
URL:https://treyadestudio.com/calendar-event/senses-3-day-journey-glastonbury-6/
LOCATION:Glastonbury\, Glastonbury\, United Kingdom
END:VEVENT
BEGIN:VEVENT
DTSTART;TZID=UTC:20220827T100000
DTEND;TZID=UTC:20220827T123000
DTSTAMP:20260424T025411
CREATED:20220805T093944Z
LAST-MODIFIED:20220805T093944Z
UID:1991-1661594400-1661603400@treyadestudio.com
SUMMARY:Heart in Earth workshop Glastonbury
DESCRIPTION:Workshop do discover how your heart energy is reflected by nature. During this workshop (around 2 1/2 hours) we will walk in nature\, open your heart energy and connect with the three pillars of your heart.  You can discover how nature mirrors you\, anchor the insights that nature will bring you and learn to trust the messages from your heart. \nCosts: \n\n £50 per person (group maximum of 4 people)\n £75 one-on-one
URL:https://treyadestudio.com/calendar-event/heart-in-earth-workshop-glastonbury-26/
LOCATION:Glastonbury\, Glastonbury\, United Kingdom
END:VEVENT
BEGIN:VEVENT
DTSTART;TZID=UTC:20220830T100000
DTEND;TZID=UTC:20220901T150000
DTSTAMP:20260424T025411
CREATED:20220805T095847Z
LAST-MODIFIED:20220805T095847Z
UID:2005-1661853600-1662044400@treyadestudio.com
SUMMARY:Embrace yourSelf 3-day journey
DESCRIPTION:This journey is all about the energies of our feminine and masculine side\, which we all have.  During these 3 days we will connect with both of those energies\, to experience the difference and connect them with your heart. We will balance and raise these vibrations to a higher level.You can experience how nature shows those energies to you and become more aware of yourself and the energies that flow through your body. A visit to Chalice Well\, Glastonbury Tor and Glastonbury Abbey is part of this journey.  Only for  small groups (up to 4 people). Costs: £255 per person or £495 individually.
URL:https://treyadestudio.com/calendar-event/embrace-yourself-3-day-journey-10/
LOCATION:Glastonbury\, Glastonbury\, United Kingdom
END:VEVENT
END:VCALENDAR