BEGIN:VCALENDAR
VERSION:2.0
PRODID:-//Treyade Studio - ECPv6.11.0.1//NONSGML v1.0//EN
CALSCALE:GREGORIAN
METHOD:PUBLISH
X-ORIGINAL-URL:https://treyadestudio.com
X-WR-CALDESC:Events for Treyade Studio
REFRESH-INTERVAL;VALUE=DURATION:PT1H
X-Robots-Tag:noindex
X-PUBLISHED-TTL:PT1H
BEGIN:VTIMEZONE
TZID:UTC
BEGIN:STANDARD
TZOFFSETFROM:+0000
TZOFFSETTO:+0000
TZNAME:UTC
DTSTART:20210101T000000
END:STANDARD
END:VTIMEZONE
BEGIN:VEVENT
DTSTART;TZID=UTC:20210612T100000
DTEND;TZID=UTC:20210612T120000
DTSTAMP:20260425T015753
CREATED:20210419T105816Z
LAST-MODIFIED:20210419T105816Z
UID:1789-1623492000-1623499200@treyadestudio.com
SUMMARY:Heart in Earth workshop Glastonbury
DESCRIPTION:In the sacred place of Avalon (Glastonbury) you can join this workshop to experience how Nature reflects your heart. During this workshop (around 2 hours) we will walk in nature\, open your heart energy and anchor the insights that nature will bring you.  Discover how the trees and nature mirrors you and learn to trust your intuition.
URL:https://treyadestudio.com/calendar-event/heart-in-earth-workshop-glastonbury-4/
LOCATION:Glastonbury\, Glastonbury\, United Kingdom
END:VEVENT
BEGIN:VEVENT
DTSTART;TZID=UTC:20210619T100000
DTEND;TZID=UTC:20210619T120000
DTSTAMP:20260425T015753
CREATED:20210419T105903Z
LAST-MODIFIED:20210419T105903Z
UID:1791-1624096800-1624104000@treyadestudio.com
SUMMARY:Heart in Earth workshop Glastonbury
DESCRIPTION:In the sacred place of Avalon (Glastonbury) you can join this workshop to experience how Nature reflects your heart. During this workshop (around 2 hours) we will walk in nature\, open your heart energy and anchor the insights that nature will bring you.  Discover how the trees and nature mirrors you and learn to trust your intuition.
URL:https://treyadestudio.com/calendar-event/heart-in-earth-workshop-glastonbury-5/
LOCATION:Glastonbury\, Glastonbury\, United Kingdom
END:VEVENT
BEGIN:VEVENT
DTSTART;TZID=UTC:20210625T100000
DTEND;TZID=UTC:20210625T123000
DTSTAMP:20260425T015753
CREATED:20210614T111250Z
LAST-MODIFIED:20210614T111258Z
UID:1832-1624615200-1624624200@treyadestudio.com
SUMMARY:Heart in Earth workshop Compton Dundon
DESCRIPTION:Workshop to experience how nature reflects your heart. During this workshop (around 2 1/2 hours) we will walk in nature\, open your heart energy and anchor the insights that nature will bring you.  Discover how the trees and nature mirrors you and learn to trust your intuition. \nWe will visit the old Yew Tree in Compton Dundon and climb Dundon Hill.
URL:https://treyadestudio.com/calendar-event/heart-in-earth-workshop-compton-dundon/
LOCATION:compton dundon\, Compton Dundon
END:VEVENT
BEGIN:VEVENT
DTSTART;TZID=UTC:20210626T100000
DTEND;TZID=UTC:20210626T120000
DTSTAMP:20260425T015753
CREATED:20210419T110002Z
LAST-MODIFIED:20210419T110002Z
UID:1793-1624701600-1624708800@treyadestudio.com
SUMMARY:Heart in Earth workshop Glastonbury
DESCRIPTION:In the sacred place of Avalon (Glastonbury) you can join this workshop to experience how Nature reflects your heart. During this workshop (around 2 hours) we will walk in nature\, open your heart energy and anchor the insights that nature will bring you.  Discover how the trees and nature mirrors you and learn to trust your intuition.
URL:https://treyadestudio.com/calendar-event/heart-in-earth-workshop-glastonbury-6/
LOCATION:Glastonbury\, Glastonbury\, United Kingdom
END:VEVENT
END:VCALENDAR