BEGIN:VCALENDAR
VERSION:2.0
PRODID:-//Treyade Studio - ECPv6.11.0.1//NONSGML v1.0//EN
CALSCALE:GREGORIAN
METHOD:PUBLISH
X-WR-CALNAME:Treyade Studio
X-ORIGINAL-URL:https://treyadestudio.com
X-WR-CALDESC:Events for Treyade Studio
REFRESH-INTERVAL;VALUE=DURATION:PT1H
X-Robots-Tag:noindex
X-PUBLISHED-TTL:PT1H
BEGIN:VTIMEZONE
TZID:UTC
BEGIN:STANDARD
TZOFFSETFROM:+0000
TZOFFSETTO:+0000
TZNAME:UTC
DTSTART:20260101T000000
END:STANDARD
END:VTIMEZONE
BEGIN:VEVENT
DTSTART;TZID=UTC:20260422T100000
DTEND;TZID=UTC:20260422T150000
DTSTAMP:20260422T015434
CREATED:20260415T144814Z
LAST-MODIFIED:20260415T144946Z
UID:2578-1776852000-1776870000@treyadestudio.com
SUMMARY:Discovery walk: Element of Water one-on-one
DESCRIPTION:
URL:https://treyadestudio.com/calendar-event/discovery-walk-element-of-water-one-on-one/
END:VEVENT
END:VCALENDAR