BEGIN:VCALENDAR
VERSION:2.0
PRODID:-//Treyade Studio - ECPv6.11.0.1//NONSGML v1.0//EN
CALSCALE:GREGORIAN
METHOD:PUBLISH
X-WR-CALNAME:Treyade Studio
X-ORIGINAL-URL:http://treyadestudio.com
X-WR-CALDESC:Events for Treyade Studio
REFRESH-INTERVAL;VALUE=DURATION:PT1H
X-Robots-Tag:noindex
X-PUBLISHED-TTL:PT1H
BEGIN:VTIMEZONE
TZID:UTC
BEGIN:STANDARD
TZOFFSETFROM:+0000
TZOFFSETTO:+0000
TZNAME:UTC
DTSTART:20240101T000000
END:STANDARD
END:VTIMEZONE
BEGIN:VEVENT
DTSTART;TZID=UTC:20240711T100000
DTEND;TZID=UTC:20240714T150000
DTSTAMP:20260420T014842
CREATED:20240523T093334Z
LAST-MODIFIED:20240610T100522Z
UID:2214-1720692000-1720969200@treyadestudio.com
SUMMARY:Booked Senses 3-day journey Glastonbury
DESCRIPTION:3-Day senses journey in Glastonbury and Dundon Hill \n“The world is full of magical things\, \npatiently waiting for our senses to grow sharper” \n– W.B. Yeats \nThis journey is all about the senses! \nHearing\, touch\, taste\, smell and sound are the ways we perceive the world around us\, but the senses have an inner part too\, the knowing\, the sixth sense. \nDuring these days we will connect with your senses to sharpen them on a deeper level. You will have a stronger connection with your intuition and become more aware of the person you truly are! You will look at the world around you in a different way!  \nAll of the experiences will take place in Nature\, as Nature is the best way to get to know yourself on a deeper level. You are going to explore your senses and discover how the energies of nature helps you to become more aware. \nThere is an option for a forth day to visit Avebury (stone circle) \nGroup journey for maximum of 4 people. \nCOSTS: £295 p.p. + extra day Avebury £95\, or £550 individually \nYou can find more information on the journey page in the overview.
URL:http://treyadestudio.com/calendar-event/senses-3-day-journey-glastonbury-12/
LOCATION:Glastonbury\, Glastonbury\, United Kingdom
END:VEVENT
END:VCALENDAR