BEGIN:VCALENDAR
VERSION:2.0
PRODID:-//Treyade Studio - ECPv6.11.0.1//NONSGML v1.0//EN
CALSCALE:GREGORIAN
METHOD:PUBLISH
X-WR-CALNAME:Treyade Studio
X-ORIGINAL-URL:http://treyadestudio.com
X-WR-CALDESC:Events for Treyade Studio
REFRESH-INTERVAL;VALUE=DURATION:PT1H
X-Robots-Tag:noindex
X-PUBLISHED-TTL:PT1H
BEGIN:VTIMEZONE
TZID:UTC
BEGIN:STANDARD
TZOFFSETFROM:+0000
TZOFFSETTO:+0000
TZNAME:UTC
DTSTART:20240101T000000
END:STANDARD
END:VTIMEZONE
BEGIN:VEVENT
DTSTART;TZID=UTC:20240615T100000
DTEND;TZID=UTC:20240615T153000
DTSTAMP:20260420T011833
CREATED:20240523T091550Z
LAST-MODIFIED:20240523T092810Z
UID:2200-1718445600-1718465400@treyadestudio.com
SUMMARY:Discover your emotions Glastonbury
DESCRIPTION:Workshop in nature to discover the connection between nature and your emotions. Receive insights about this part of yourself and learn to trust your intuition. We walk around in nature\, connect with the trees and work with nature to get to know yourself in a different way. I will show you how nature gives you the tools to discover more about your emotional side and how nature can help you balance them and how she reveals the things you need to know. After the walk there will be workshop to make a tangible memory of this day. \nINGREDIENTS: \n\nwander around in Nature\nshort visualization to connect your heart with nature\nconnecting with your emotional side\nexercises to receive insights about your emotions\ncollecting natural material\ndiscover how nature mirrors your emotions\nworkshop after the walk\n\nThe walk start at 10am and will take a few hours. There are several stops and we will have a lunch along the way (please bring a lunch with you). There will be a workshop at the end of the walk.   \nCOSTS: \n\n £85 per person (group maximum of 4 people)\n £135 one-on-one
URL:http://treyadestudio.com/calendar-event/discover-your-emotions/
LOCATION:Glastonbury\, Glastonbury\, United Kingdom
END:VEVENT
END:VCALENDAR